BEGIN:VCALENDAR
VERSION:2.0
PRODID:-//Team Kraft der Natur - ECPv6.15.20//NONSGML v1.0//EN
CALSCALE:GREGORIAN
METHOD:PUBLISH
X-WR-CALNAME:Team Kraft der Natur
X-ORIGINAL-URL:https://teamkraftdernatur.de
X-WR-CALDESC:Veranstaltungen für Team Kraft der Natur
REFRESH-INTERVAL;VALUE=DURATION:PT1H
X-Robots-Tag:noindex
X-PUBLISHED-TTL:PT1H
BEGIN:VTIMEZONE
TZID:Europe/Berlin
BEGIN:DAYLIGHT
TZOFFSETFROM:+0100
TZOFFSETTO:+0200
TZNAME:CEST
DTSTART:20210328T010000
END:DAYLIGHT
BEGIN:STANDARD
TZOFFSETFROM:+0200
TZOFFSETTO:+0100
TZNAME:CET
DTSTART:20211031T010000
END:STANDARD
BEGIN:DAYLIGHT
TZOFFSETFROM:+0100
TZOFFSETTO:+0200
TZNAME:CEST
DTSTART:20220327T010000
END:DAYLIGHT
BEGIN:STANDARD
TZOFFSETFROM:+0200
TZOFFSETTO:+0100
TZNAME:CET
DTSTART:20221030T010000
END:STANDARD
BEGIN:DAYLIGHT
TZOFFSETFROM:+0100
TZOFFSETTO:+0200
TZNAME:CEST
DTSTART:20230326T010000
END:DAYLIGHT
BEGIN:STANDARD
TZOFFSETFROM:+0200
TZOFFSETTO:+0100
TZNAME:CET
DTSTART:20231029T010000
END:STANDARD
END:VTIMEZONE
BEGIN:VEVENT
DTSTART;TZID=Europe/Berlin:20221201T193000
DTEND;TZID=Europe/Berlin:20221201T210000
DTSTAMP:20260421T151954
CREATED:20221014T162943Z
LAST-MODIFIED:20221014T162943Z
UID:10785-1669923000-1669928400@teamkraftdernatur.de
SUMMARY:Rauhnächte Kickoff Zoom für Kunden und Berater
DESCRIPTION:Dieser Vortrag dreht sich um die Rauhnächte 2022/2023 und ist der Kickoff zur Rauhnächte Begleitung per What´s App Gruppe- ab Beginn der Rauhnächte.\nDu erfährst interessanten und Wissenswertes zu den Rauhnächten und welche Öle oder Utensilien du für diese magische Zeit benötigst.\nDamit du auch alles rechtzeitig da hast und gut vorbereitet deine Rauhnächte zelebrieren kannst.\nLade herzlich gern deine interessierten Kunden dazu ein. Weitere Infos folgen dann hier.\nSie wurden zu einem Zoom-Meeting eingeladen.\nThema: Raunächte 2022/2023 Kickoff Zoom\nWann: 1. Dezember 2022 um 19:30Uhr\n\nLINK: Bitte lass ihn dir von deinem Berater im Team Kraft der Natur zusenden!
URL:https://teamkraftdernatur.de/event/rauhnaechte-kickoff-zoom-fuer-kunden-und-berater/
ATTACH;FMTTYPE=image/png:https://teamkraftdernatur.de/wp-content/uploads/2022/10/FB-Rauhnaechte.png
END:VEVENT
BEGIN:VEVENT
DTSTART;TZID=Europe/Berlin:20221220T190000
DTEND;TZID=Europe/Berlin:20221220T200000
DTSTAMP:20260421T151954
CREATED:20220117T114512Z
LAST-MODIFIED:20220117T114524Z
UID:9812-1671562800-1671566400@teamkraftdernatur.de
SUMMARY:Herbst Diamond Club - Abschlussveranstaltung bei Zoom (für Berater)
DESCRIPTION:Informationen\, Rückblick und Auswertung des Diamondclubs 2022. Für alle Diamondclub Teilnehmer und für alle Berater mit Interesse.
URL:https://teamkraftdernatur.de/event/herbst-diamond-club-abschlussveranstaltung-bei-zoom-fuer-berater/
ATTACH;FMTTYPE=image/png:https://teamkraftdernatur.de/wp-content/uploads/2022/01/doterra-6.png
END:VEVENT
END:VCALENDAR