BEGIN:VCALENDAR
VERSION:2.0
PRODID:-//Team Kraft der Natur - ECPv6.15.20//NONSGML v1.0//EN
CALSCALE:GREGORIAN
METHOD:PUBLISH
X-ORIGINAL-URL:https://teamkraftdernatur.de
X-WR-CALDESC:Veranstaltungen für Team Kraft der Natur
REFRESH-INTERVAL;VALUE=DURATION:PT1H
X-Robots-Tag:noindex
X-PUBLISHED-TTL:PT1H
BEGIN:VTIMEZONE
TZID:Europe/Berlin
BEGIN:DAYLIGHT
TZOFFSETFROM:+0100
TZOFFSETTO:+0200
TZNAME:CEST
DTSTART:20210328T010000
END:DAYLIGHT
BEGIN:STANDARD
TZOFFSETFROM:+0200
TZOFFSETTO:+0100
TZNAME:CET
DTSTART:20211031T010000
END:STANDARD
BEGIN:DAYLIGHT
TZOFFSETFROM:+0100
TZOFFSETTO:+0200
TZNAME:CEST
DTSTART:20220327T010000
END:DAYLIGHT
BEGIN:STANDARD
TZOFFSETFROM:+0200
TZOFFSETTO:+0100
TZNAME:CET
DTSTART:20221030T010000
END:STANDARD
BEGIN:DAYLIGHT
TZOFFSETFROM:+0100
TZOFFSETTO:+0200
TZNAME:CEST
DTSTART:20230326T010000
END:DAYLIGHT
BEGIN:STANDARD
TZOFFSETFROM:+0200
TZOFFSETTO:+0100
TZNAME:CET
DTSTART:20231029T010000
END:STANDARD
END:VTIMEZONE
BEGIN:VEVENT
DTSTART;TZID=Europe/Berlin:20220609T200000
DTEND;TZID=Europe/Berlin:20220609T213000
DTSTAMP:20260422T004119
CREATED:20211209T122429Z
LAST-MODIFIED:20211209T122429Z
UID:9636-1654804800-1654810200@teamkraftdernatur.de
SUMMARY:Führungskräfte Training: Entfaltung – Kontinuität – Leiterschaft
DESCRIPTION:Unsere Webinare finden ausschliesslich in deutscher Sprache statt und sind für alle Wellness Advocates kostenlos. Mit diesem Angebot wollen wir einen Beitrag leisten\, um Deine Softskills auszubauen und Dein Mindset weiter zu entwickeln\, damit Du in Deiner Leiterschaft weiter wachsen kannst. \nPower auf Dauer – hier kannst du dich registrieren \n\n\n\n\n\n\n\n\n\n\n\n\n\n\n\nFührungskräfte Training:\nEntfaltung – Kontinuität – Leiterschaft\n\n\n\n\n\n\n\nLass Dich heute überraschen! Wir haben für Dich einen Gastreferenten eingeladen und werden wiederum einen spannenden Inhalt zum Thema Entfaltung – Kontinuität – Leiterschaft durchleuchten. \nSei mit dabei und lade auch Deine Teammitglieder ein\, von denen Du glaubst\, dass sie das Potential haben\, um in ihrer Leiterschaft zu wachsen. \nAlle Angebote von www.power-auf-dauer.eu sind kostenlos.
URL:https://teamkraftdernatur.de/event/fuehrungskraefte-training-entfaltung-kontinuitaet-leiterschaft/
ATTACH;FMTTYPE=image/png:https://teamkraftdernatur.de/wp-content/uploads/2021/12/Kopie-von-Kopie-von-Gold-Simple-New-Year-Instagram-Post.png
END:VEVENT
BEGIN:VEVENT
DTSTART;TZID=Europe/Berlin:20220623T190000
DTEND;TZID=Europe/Berlin:20220623T200000
DTSTAMP:20260422T004119
CREATED:20220117T114203Z
LAST-MODIFIED:20220117T114213Z
UID:9809-1656010800-1656014400@teamkraftdernatur.de
SUMMARY:Frühling Diamond Club - Abschlussveranstaltung bei Zoom (für Berater)
DESCRIPTION:Informationen\, Rückblick und Auswertung des Diamondclubs 2022. Für alle Diamondclub Teilnehmer und für alle Berater mit Interesse.
URL:https://teamkraftdernatur.de/event/fruehling-diamond-club-abschlussveranstaltung-bei-zoom-fuer-berater/
ATTACH;FMTTYPE=image/png:https://teamkraftdernatur.de/wp-content/uploads/2022/01/doterra-6.png
END:VEVENT
END:VCALENDAR