BEGIN:VCALENDAR
VERSION:2.0
PRODID:-//Team Kraft der Natur - ECPv6.15.20//NONSGML v1.0//EN
CALSCALE:GREGORIAN
METHOD:PUBLISH
X-ORIGINAL-URL:https://teamkraftdernatur.de
X-WR-CALDESC:Veranstaltungen für Team Kraft der Natur
REFRESH-INTERVAL;VALUE=DURATION:PT1H
X-Robots-Tag:noindex
X-PUBLISHED-TTL:PT1H
BEGIN:VTIMEZONE
TZID:Europe/Berlin
BEGIN:DAYLIGHT
TZOFFSETFROM:+0100
TZOFFSETTO:+0200
TZNAME:CEST
DTSTART:20210328T010000
END:DAYLIGHT
BEGIN:STANDARD
TZOFFSETFROM:+0200
TZOFFSETTO:+0100
TZNAME:CET
DTSTART:20211031T010000
END:STANDARD
BEGIN:DAYLIGHT
TZOFFSETFROM:+0100
TZOFFSETTO:+0200
TZNAME:CEST
DTSTART:20220327T010000
END:DAYLIGHT
BEGIN:STANDARD
TZOFFSETFROM:+0200
TZOFFSETTO:+0100
TZNAME:CET
DTSTART:20221030T010000
END:STANDARD
BEGIN:DAYLIGHT
TZOFFSETFROM:+0100
TZOFFSETTO:+0200
TZNAME:CEST
DTSTART:20230326T010000
END:DAYLIGHT
BEGIN:STANDARD
TZOFFSETFROM:+0200
TZOFFSETTO:+0100
TZNAME:CET
DTSTART:20231029T010000
END:STANDARD
END:VTIMEZONE
BEGIN:VEVENT
DTSTART;TZID=Europe/Berlin:20220428T200000
DTEND;TZID=Europe/Berlin:20220428T220000
DTSTAMP:20260422T035513
CREATED:20211209T122131Z
LAST-MODIFIED:20211209T122131Z
UID:9634-1651176000-1651183200@teamkraftdernatur.de
SUMMARY:Führungskräfte Training: Die Wichtigkeit von Duplikation – Die besten und wichtigsten Tools\, die du als Führungskraft kennen und einsetzen solltest.
DESCRIPTION:Unsere Webinare finden ausschliesslich in deutscher Sprache statt und sind für alle Wellness Advocates kostenlos. Mit diesem Angebot wollen wir einen Beitrag leisten\, um Deine Softskills auszubauen und Dein Mindset weiter zu entwickeln\, damit Du in Deiner Leiterschaft weiter wachsen kannst. \nPower auf Dauer – hier kannst du dich registrieren \n\n\n\n\n\n\n\n\n\n\n\nFührungskräfte Training:\nDie Wichtigkeit von Duplikation – Die besten und wichtigsten Tools\, die du als Führungskraft kennen und einsetzen solltest.\n\n\n\n\n\n\n\nDie richtigen Dinge tun – das ist wohl die Zauberformel. Aber muss ich das alles selber neu erfinden? NEIN! In unserem Business gibt es so viele einfach\, tolle und mehrfach erprobte Tools und Ideen\, welche ganz einfach umsetzbar und vor allem duplizierbar sind.  Nur wenn du selbst duplizierbar bist\, wird dir dein Team folgen und Gleiches tun. Duplikation ist ein Garant dafür\, ein Team zum Erfolg zu führen. \nSei mit dabei und lade auch Deine Teammitglieder ein\, von denen Du glaubst\, dass sie das Potential haben\, um in ihrer Leiterschaft zu wachsen. \nAlle Angebote von www.power-auf-dauer.eu sind kostenlos.
URL:https://teamkraftdernatur.de/event/fuehrungskraefte-training-die-wichtigkeit-von-duplikation-die-besten-und-wichtigsten-tools-die-du-als-fuehrungskraft-kennen-und-einsetzen-solltest/
ATTACH;FMTTYPE=image/png:https://teamkraftdernatur.de/wp-content/uploads/2021/12/Kopie-von-Kopie-von-Gold-Simple-New-Year-Instagram-Post.png
END:VEVENT
END:VCALENDAR