BEGIN:VCALENDAR
VERSION:2.0
PRODID:-//Team Kraft der Natur - ECPv6.15.20//NONSGML v1.0//EN
CALSCALE:GREGORIAN
METHOD:PUBLISH
X-WR-CALNAME:Team Kraft der Natur
X-ORIGINAL-URL:https://teamkraftdernatur.de
X-WR-CALDESC:Veranstaltungen für Team Kraft der Natur
REFRESH-INTERVAL;VALUE=DURATION:PT1H
X-Robots-Tag:noindex
X-PUBLISHED-TTL:PT1H
BEGIN:VTIMEZONE
TZID:Europe/Berlin
BEGIN:DAYLIGHT
TZOFFSETFROM:+0100
TZOFFSETTO:+0200
TZNAME:CEST
DTSTART:20200329T010000
END:DAYLIGHT
BEGIN:STANDARD
TZOFFSETFROM:+0200
TZOFFSETTO:+0100
TZNAME:CET
DTSTART:20201025T010000
END:STANDARD
BEGIN:DAYLIGHT
TZOFFSETFROM:+0100
TZOFFSETTO:+0200
TZNAME:CEST
DTSTART:20210328T010000
END:DAYLIGHT
BEGIN:STANDARD
TZOFFSETFROM:+0200
TZOFFSETTO:+0100
TZNAME:CET
DTSTART:20211031T010000
END:STANDARD
BEGIN:DAYLIGHT
TZOFFSETFROM:+0100
TZOFFSETTO:+0200
TZNAME:CEST
DTSTART:20220327T010000
END:DAYLIGHT
BEGIN:STANDARD
TZOFFSETFROM:+0200
TZOFFSETTO:+0100
TZNAME:CET
DTSTART:20221030T010000
END:STANDARD
END:VTIMEZONE
BEGIN:VEVENT
DTSTART;TZID=Europe/Berlin:20211201T190000
DTEND;TZID=Europe/Berlin:20211201T200000
DTSTAMP:20260422T095446
CREATED:20211126T121023Z
LAST-MODIFIED:20211126T121624Z
UID:9606-1638385200-1638388800@teamkraftdernatur.de
SUMMARY:Informationszoom Diamondclub Frühling 2022
DESCRIPTION:Liebe Berater\,\nnach dem Diamond Club ist vor dem Diamond Club – bereits im Frühling 2022 startet die neue Saison. Von März bis Mai 2022 habt ihr wieder die Chance\, nachhaltige Beziehungen aufzubauen und systematisch Wachstumsimpulse für euer Business zu setzen. Die Qualifikation dafür läuft bereits seit 01. November 2021. Wir laden alle interessierten Teilnehmer*innen sowie potenzielle Förderinnen und Förderer sehr herzlich zu unserem deutschsprachigen Infoabend rund um den »Diamond Club Frühling 2022« ein. \nMITTWOCH\, 1. DEZEMBER 2022 19 Uhr-20 Uhr – LINKZUGIFF für Berater im internen Bereich: https://teamkraftdernatur.de/teamzoom-berater-registrierungslink/ \nErlebt eine aufschlussreiche Stunde\, in welcher wir alles Wissenswerte rund um das Förderprogramm – wie Termine\, Qualifikationsvoraussetzungen\, monatliche Anforderungen sowie mögliche Boni und Prämien – mit euch teilen. Freut euch auch auf praktische Tipps zur Nutzung der Diamond Club Website. Bei der Gelegenheit legen wir euch besonders unsere Diamond Club-Supportgruppe auf »Telegram« ans Herz. Damit verpasst ihr keine Updates und habt immer die Möglichkeit\, uns zu erreichen. \nSeid dabei! Wir freuen uns auf euch. \nEuere dōTERRA Account Manager*innen & euer Market Development Manager-Team
URL:https://teamkraftdernatur.de/event/informationszoom-diamondclub-fruehling-2022/
ATTACH;FMTTYPE=image/png:https://teamkraftdernatur.de/wp-content/uploads/2021/11/Kopie-von-Kopie-von-Kopie-von-Kopie-von-Leadership-Retret-6.png
END:VEVENT
BEGIN:VEVENT
DTSTART;TZID=Europe/Berlin:20211202T200000
DTEND;TZID=Europe/Berlin:20211202T210000
DTSTAMP:20260422T095446
CREATED:20211112T093831Z
LAST-MODIFIED:20211112T093831Z
UID:9546-1638475200-1638478800@teamkraftdernatur.de
SUMMARY:Einsteiger BASIS-ÖLE-VORTRAG für Neuinteressenten und Kunden im Team
DESCRIPTION:Möchtest du dein Immunsystem unterstützen\, deine Emotionen ausbalancieren\, deine Atemwege gesund erhalten\, Verspannungen lindern\, dein Verdauungssystem stärken? \nÄtherische Öle können das alles schaffen und noch so viel mehr! Wir zeigen dir\,  wie du durch die Anwendung der Ätherischen Öle gezielt den Herausforderungen des Lebens effektvoll begegnen kannst. \nLass dich in die Welt der reinsten und kraftvollsten ätherischen Öle entführen. Wir zeigen dir\, wie diese kleinen Kraftpakete zu deinem Wohlbefinden und dem deiner ganzen Familie beitragen können. \nJEDEN DONNERSTAG um 20 Uhr bis ca. 21 Uhr findet unser Online Vortrag zu den TOP TEN ÖLEN von doTERRA statt. Jede Woche entführen dich unterschiedliche Sprecher in die Welt der ätherischen Öle. \n\n3 interessante Fakten zu ätherischen Ölen\n3 Arten der Anwendung ätherischer Öle\n10 Grundöle erklärt\nErfahrungen\n3 Arten Kunde oder Berater zu werden und seine Öle zu bestellen\n\nFür Neuinteressenten und bestehende Kunden in unserem Team\, die es gern noch einmal hören möchten. \nMelde dich gern bei unseren Beratern kostenlos und unverbindlich an. Oder fülle folgendes Formular aus\, wenn du noch kein doTERRA Kunde bist. https://forms.gle/gcL2AyGDzvT7s6Mc9 \nAngemeldete Kunden im Team Kraft der Natur\, die teilnehmen möchten können sehr gern im internen Bereich den Zugang nutzen.
URL:https://teamkraftdernatur.de/event/einsteiger-basis-oele-vortrag-fuer-neuinteressenten-und-kunden-im-team-3/
ATTACH;FMTTYPE=image/png:https://teamkraftdernatur.de/wp-content/uploads/2021/11/Kopie-von-Garagen-floh-markt-1.png
END:VEVENT
BEGIN:VEVENT
DTSTART;TZID=Europe/Berlin:20211216T200000
DTEND;TZID=Europe/Berlin:20211216T210000
DTSTAMP:20260422T095446
CREATED:20211209T115234Z
LAST-MODIFIED:20211209T120020Z
UID:9622-1639684800-1639688400@teamkraftdernatur.de
SUMMARY:Struktur & Platzierungen - Online Vortrag mit Claus Reinhardt
DESCRIPTION:Hallo zusammen\, \nda sich viele von Euch ein Training zur Struktur & Platzierungen wünschen\, gibt es am 16.12.2021 um 20 Uhr einen Zoom-Call zu diesem Thema. Ich werde auf die größten Platzierungsfehler eingehen und wie Ihr euch eine nachhaltige Struktur aufbaut. Außerdem sprechen wir noch kurz über die Möglichkeiten\, wie begangene Platzierungsfehler eventuell wieder in Ordnung gebracht werden können. \nDer Zoom-Call ist für Alle geeignet\, egal ob Ihr noch ganz neu dabei seid\, oder die Öle schon seit einer Weile teilt. Den Anmeldelink findet ihr im Beraterbereich des Team Kraft der Natur: \nIch freue mich auf Euch. \nLiebe Grüße\,\nClaus
URL:https://teamkraftdernatur.de/event/struktur-platzierungen-online-vortrag-mit-claus-reinhardt/
ATTACH;FMTTYPE=image/png:https://teamkraftdernatur.de/wp-content/uploads/2021/12/Kopie-von-Gold-Simple-New-Year-Instagram-Post.png
END:VEVENT
END:VCALENDAR