BEGIN:VCALENDAR
VERSION:2.0
PRODID:-//Team Kraft der Natur - ECPv6.15.20//NONSGML v1.0//EN
CALSCALE:GREGORIAN
METHOD:PUBLISH
X-ORIGINAL-URL:https://teamkraftdernatur.de
X-WR-CALDESC:Veranstaltungen für Team Kraft der Natur
REFRESH-INTERVAL;VALUE=DURATION:PT1H
X-Robots-Tag:noindex
X-PUBLISHED-TTL:PT1H
BEGIN:VTIMEZONE
TZID:Europe/Berlin
BEGIN:DAYLIGHT
TZOFFSETFROM:+0100
TZOFFSETTO:+0200
TZNAME:CEST
DTSTART:20200329T010000
END:DAYLIGHT
BEGIN:STANDARD
TZOFFSETFROM:+0200
TZOFFSETTO:+0100
TZNAME:CET
DTSTART:20201025T010000
END:STANDARD
BEGIN:DAYLIGHT
TZOFFSETFROM:+0100
TZOFFSETTO:+0200
TZNAME:CEST
DTSTART:20210328T010000
END:DAYLIGHT
BEGIN:STANDARD
TZOFFSETFROM:+0200
TZOFFSETTO:+0100
TZNAME:CET
DTSTART:20211031T010000
END:STANDARD
BEGIN:DAYLIGHT
TZOFFSETFROM:+0100
TZOFFSETTO:+0200
TZNAME:CEST
DTSTART:20220327T010000
END:DAYLIGHT
BEGIN:STANDARD
TZOFFSETFROM:+0200
TZOFFSETTO:+0100
TZNAME:CET
DTSTART:20221030T010000
END:STANDARD
END:VTIMEZONE
BEGIN:VEVENT
DTSTART;TZID=Europe/Berlin:20211110T200000
DTEND;TZID=Europe/Berlin:20211110T213000
DTSTAMP:20260422T112023
CREATED:20211108T102505Z
LAST-MODIFIED:20211108T102505Z
UID:9530-1636574400-1636579800@teamkraftdernatur.de
SUMMARY:Dr.Riggs - Geheimnisse äth.Öle - Copaiba vs CBD Öl (englischer Vortrag)
DESCRIPTION:Die Geheimnisse der ätherischen Öle – Copaiba im Vergleich zu CBD\nIn unserem kommenden Empowerment-Webinar werden wir von  Dr. Brannick Riggs\, Vizepräsident für Gesundheitsinitiativen und leitender medizinischer Direktor der medizinischen Klinik von doTERRA hören.\nDr. Riggs leitet die neue Gesundheitsklinik von doTERRA\, die westliche Medizin mit integrativen Gesundheitspraktiken verknüpft. Als Mitglied des medizinischen Beirats des Unternehmens leistete Dr. Riggs wichtige Beiträge zu doTERRAs Forschungs- und Bildungsinitiativen. Bevor er zu doTERRA kam\, lehrte Dr. Riggs als außerordentlicher Professor an der University of Utah College of Medicine\, praktizierte als Arzt und Partner bei Revere Health und war medizinischer Direktor von Revere Health in der Region Nord-Utah. Er hat einen Abschluss vom University of Arizona College of Medicine.\nVerpassen Sie nicht diese wunderbare Möglichkeit\, Dr. Brannick Riggs zu treffen und sein Wissen über die dōTERRA-Öle zu teilen. \nWann: 10. November\, 20 Uhr MEZ\nWie kann man teilnehmen: https://zoom.us/j/91766978142
URL:https://teamkraftdernatur.de/event/dr-riggs-geheimnisse-aeth-oele-copaiba-vs-cbd-oel-englischer-vortrag/
ATTACH;FMTTYPE=image/jpeg:https://teamkraftdernatur.de/wp-content/uploads/2021/11/253777630_415770546841668_5787383289225998573_n-1.jpg
END:VEVENT
BEGIN:VEVENT
DTSTART;TZID=Europe/Berlin:20211118T193000
DTEND;TZID=Europe/Berlin:20211118T210000
DTSTAMP:20260422T112023
CREATED:20211013T151640Z
LAST-MODIFIED:20211013T153620Z
UID:9237-1637263800-1637269200@teamkraftdernatur.de
SUMMARY:Lerne das Business mit doTERRA kennen - DIE ZEIT IST REIF.
DESCRIPTION:In diesem Vortrag (ca. 1\,5h) wird das Business mit doTERRA #teamkraftdernatur vorgestellt!\nEs soll dir einen kleinen Einblick geben. Es ersetzt aber nicht das individuelle und persönliche Gespräch mit deinem Berater. \nWas sollte ein Berater bei doTERRA mitbringen?\nIst das überhaupt etwas für mich?\nWieviel Zeit muss ich dafür aufwenden?\nWas bietet doTERRA an Unterstützung und Provisionen?\nWarum ist doTERRA die Chance auf ein freies\, glückliches\, selbst bestimmtes Leben?\nWas ist mit doTERRA alles möglich.\nFragen und Antworten! \nDu musst auf dieser TEAMSEITE als Kunde bereits registriert und freigeschalten sein\, um dich anmelden zu können. Ansonsten kannst du einfach deinen Berater um den Link bitten: Du findest den Zugangslink für die Anmeldung ganz oben auf dieser Seite:  https://teamkraftdernatur.de/wissen-fuer-unsere-kunden/ \n  \n  \nLies auch gern unseren Blog dazu: Wie würde Dein Leben aussehen\, wenn Du frei entscheiden könntest?
URL:https://teamkraftdernatur.de/event/lerne-das-business-mit-doterra-kennen-die-zeit-ist-reif/
ATTACH;FMTTYPE=image/png:https://teamkraftdernatur.de/wp-content/uploads/2021/10/jetzt-2.png
END:VEVENT
BEGIN:VEVENT
DTSTART;TZID=Europe/Berlin:20211118T200000
DTEND;TZID=Europe/Berlin:20211118T210000
DTSTAMP:20260422T112023
CREATED:20211112T093246Z
LAST-MODIFIED:20211112T093246Z
UID:9541-1637265600-1637269200@teamkraftdernatur.de
SUMMARY:Einsteiger BASIS-ÖLE-VORTRAG für Neuinteressenten und Kunden im Team
DESCRIPTION:Möchtest du dein Immunsystem unterstützen\, deine Emotionen ausbalancieren\, deine Atemwege gesund erhalten\, Verspannungen lindern\, dein Verdauungssystem stärken? \nÄtherische Öle können das alles schaffen und noch so viel mehr! Wir zeigen dir\,  wie du durch die Anwendung der Ätherischen Öle gezielt den Herausforderungen des Lebens effektvoll begegnen kannst. \nLass dich in die Welt der reinsten und kraftvollsten ätherischen Öle entführen. Wir zeigen dir\, wie diese kleinen Kraftpakete zu deinem Wohlbefinden und dem deiner ganzen Familie beitragen können. \nJEDEN DONNERSTAG um 20 Uhr bis ca. 21 Uhr findet unser Online Vortrag zu den TOP TEN ÖLEN von doTERRA statt. Jede Woche entführen dich unterschiedliche Sprecher in die Welt der ätherischen Öle. \n\n3 interessante Fakten zu ätherischen Ölen\n3 Arten der Anwendung ätherischer Öle\n10 Grundöle erklärt\nErfahrungen\n3 Arten Kunde oder Berater zu werden und seine Öle zu bestellen\n\nFür Neuinteressenten und bestehende Kunden in unserem Team\, die es gern noch einmal hören möchten. \nMelde dich gern bei unseren Beratern kostenlos und unverbindlich an. Oder fülle folgendes Formular aus\, wenn du noch kein doTERRA Kunde bist. https://forms.gle/gcL2AyGDzvT7s6Mc9 \nAngemeldete Kunden im Team Kraft der Natur\, die teilnehmen möchten können sehr gern im internen Bereich den Zugang nutzen. \n 
URL:https://teamkraftdernatur.de/event/einsteiger-basis-oele-vortrag-fuer-neuinteressenten-und-kunden-im-team/
ATTACH;FMTTYPE=image/png:https://teamkraftdernatur.de/wp-content/uploads/2021/11/Kopie-von-Garagen-floh-markt-1.png
END:VEVENT
BEGIN:VEVENT
DTSTART;TZID=Europe/Berlin:20211129T200000
DTEND;TZID=Europe/Berlin:20211129T213000
DTSTAMP:20260422T112023
CREATED:20211126T122439Z
LAST-MODIFIED:20211126T122732Z
UID:9611-1638216000-1638221400@teamkraftdernatur.de
SUMMARY:Weihnachtsgeschenke mit ätherischen Ölen
DESCRIPTION:Ihr Lieben\, \nwir laden euch ganz\, ganz herzlich zu unserem Online-Vortrag rund um das Thema „Weihnachten & ätherische Öle“ ein. \nInhalt:\nWeihnachtsdüfte aus der Flasche\, inkl. Herstellung Raumspray & Kerzen\nWeihnachtsgeschenke aus der Küche \nEine Wellness-Box selber machen\, inkl. Herstellung Badesalz\, Peeling\, Bodybutter\nTipps für entspannte Weihnachten\nTricks für Weihnachtsnotfälle \n… und noch viel mehr.  Lasst euch überraschen.\nWir bitten um eine Registrierung im internen Bereich\, für den du freigeschalten sein musst: https://teamkraftdernatur.de/zoom-links-intern-fuer-kunden-im-team-kraft-der-natur/ \nNach der Registrierung erhaltet ihr eine Bestätigungs-E-Mail mit Informationen über die Teilnahme am Meeting\, d. h. dem Link zum Zoom. \nWir freuen uns riesig auf euch und einen gemütlichen gemeinsamen Abend.
URL:https://teamkraftdernatur.de/event/weihnachtsgeschenke-mit-aetherischen-oelen/
ATTACH;FMTTYPE=image/jpeg:https://teamkraftdernatur.de/wp-content/uploads/2021/11/WhatsApp-Image-2021-11-26-at-12.51.08.jpeg
END:VEVENT
END:VCALENDAR