BEGIN:VCALENDAR
VERSION:2.0
PRODID:-//Team Kraft der Natur - ECPv6.15.20//NONSGML v1.0//EN
CALSCALE:GREGORIAN
METHOD:PUBLISH
X-WR-CALNAME:Team Kraft der Natur
X-ORIGINAL-URL:https://teamkraftdernatur.de
X-WR-CALDESC:Veranstaltungen für Team Kraft der Natur
REFRESH-INTERVAL;VALUE=DURATION:PT1H
X-Robots-Tag:noindex
X-PUBLISHED-TTL:PT1H
BEGIN:VTIMEZONE
TZID:Europe/Berlin
BEGIN:DAYLIGHT
TZOFFSETFROM:+0100
TZOFFSETTO:+0200
TZNAME:CEST
DTSTART:20240331T010000
END:DAYLIGHT
BEGIN:STANDARD
TZOFFSETFROM:+0200
TZOFFSETTO:+0100
TZNAME:CET
DTSTART:20241027T010000
END:STANDARD
BEGIN:DAYLIGHT
TZOFFSETFROM:+0100
TZOFFSETTO:+0200
TZNAME:CEST
DTSTART:20250330T010000
END:DAYLIGHT
BEGIN:STANDARD
TZOFFSETFROM:+0200
TZOFFSETTO:+0100
TZNAME:CET
DTSTART:20251026T010000
END:STANDARD
BEGIN:DAYLIGHT
TZOFFSETFROM:+0100
TZOFFSETTO:+0200
TZNAME:CEST
DTSTART:20260329T010000
END:DAYLIGHT
BEGIN:STANDARD
TZOFFSETFROM:+0200
TZOFFSETTO:+0100
TZNAME:CET
DTSTART:20261025T010000
END:STANDARD
END:VTIMEZONE
BEGIN:VEVENT
DTSTART;TZID=Europe/Berlin:20251104T193000
DTEND;TZID=Europe/Berlin:20251104T203000
DTSTAMP:20260423T215152
CREATED:20251029T143717Z
LAST-MODIFIED:20251029T143749Z
UID:12822-1762284600-1762288200@teamkraftdernatur.de
SUMMARY:Live Zoom: Vom Herbstblues zur Lebensfreude - Natürliche Wege zu mehr Wohlbefinden
DESCRIPTION:Erfahre\, wie du mit ätherischen Ölen und natürlichen Nährstoffen (NEMs) dein emotionales Gleichgewicht stärken und neue Energie tanken kannst.🌿 Heilpraktikerin Miriam Foltin teilt wertvolle Tipps und Erfahrungen für mehr Wohlbefinden und innere Balance in der dunkleren Jahreszeit. ✨ \nDen Zuganagslink findest du hier Vertiefungsabende Aufzeichnung & ZUGANGSLINKS für die ZOOM-TERMINE im internen Kundenbereich\, zudem du dich einmal registrieren und dann anmelden musst. Die Freischaltung der Registrierung kann bis zu 5 Tage in Anspruch nehmen. Du kannst auch deinen Wellness Botschafter kontaktieren oder den Link aus dem Telegram Kanal Kraft der Natur nehmen.
URL:https://teamkraftdernatur.de/event/live-zoom-vom-herbstblues-zur-lebensfreude-natuerliche-wege-zu-mehr-wohlbefinden/
ATTACH;FMTTYPE=image/jpeg:https://teamkraftdernatur.de/wp-content/uploads/2025/10/WhatsApp-Image-2025-10-13-at-19.28.00.jpeg
END:VEVENT
BEGIN:VEVENT
DTSTART;TZID=Europe/Berlin:20251105T190000
DTEND;TZID=Europe/Berlin:20251105T200000
DTSTAMP:20260423T215152
CREATED:20250805T073919Z
LAST-MODIFIED:20250805T083948Z
UID:12710-1762369200-1762372800@teamkraftdernatur.de
SUMMARY:Live Zoom: doTERRA Lifestyle – What’s New - November
DESCRIPTION:Entdecke die neuesten Entwicklungen bei doTERRA in diesem informativen Live-Zoom-Event! Erfahre aus erster Hand\, welche innovativen ätherischen Öle und Wellness-Produkte in diesem Monat neu im Sortiment sind. \nDie Veranstaltung bietet dir wertvolle Einblicke in bewährte Rezepte\, praktisches Anwendungswissen und hilfreiche Tipps für den Alltag. Besonders interessant: Du erhältst Informationen zu wichtigen Terminen\, die du nicht verpassen solltest\, sowie clevere Strategien für optimale Bestellungen. \nDas Format „Clever und Informativ“ verspricht eine kompakte\, aber umfassende Übersicht über alles Wissenswerte rund um die doTERRA-Neuheiten. Perfekt für alle\, die sich über die neuesten Trends im Bereich natürlicher Wellness-Lösungen informieren möchten. Den Zuganagslink findest du hier Vertiefungsabende Aufzeichnung & ZUGANGSLINKS für die ZOOM-TERMINE im internen Kundenbereich\, zudem du dich einmal registrieren und dann anmelden musst. Die Freischaltung der Registrierung kann bis zu 5 Tage in Anspruch nehmen. Du kannst auch deinen Wellness Botschafter kontaktieren oder den Link aus dem Telegram Kanal Kraft der Natur nehmen.
URL:https://teamkraftdernatur.de/event/live-zoom-doterra-lifestyle-whats-new-november/
ATTACH;FMTTYPE=image/jpeg:https://teamkraftdernatur.de/wp-content/uploads/2025/08/photo_5220057467663285011_y.jpg
END:VEVENT
BEGIN:VEVENT
DTSTART;TZID=Europe/Berlin:20251114T190000
DTEND;TZID=Europe/Berlin:20251114T234500
DTSTAMP:20260423T215152
CREATED:20250624T112908Z
LAST-MODIFIED:20250624T113028Z
UID:12686-1763146800-1763163900@teamkraftdernatur.de
SUMMARY:dōTERRA Stōries Party vorm Germanyday in Nürnberg
DESCRIPTION:Wir stimmen uns dieses Jahr bei der dōTERRA Stōries Party auf den am folgenden Tag stattfindenden Germany Day 2025 ein.\nKommen Sie zu diesem Anlass zusammen\, um sich auszutauschen\, neue Kontakte zu knüpfen oder bestehende zu pflegen und zum Rhythmus unserer Stōries das Tanzbein zu schwingen. \ndōTERRA Stōries Party Tickets\, Fr\, 14.11.2025 um 19:00 Uhr | Eventbrite\nEs erwartet Sie eine Stehparty mit DJ in beeindruckender Kulisse über mehrere Stockwerke verteilt. Vor Ort können Sie Getränke und Snacks erwerben. \nAlle Fakten zur Party: \n– Datum: Freitag\, 14.11.25\n– Zeit: 19:00 – 24:00 Uhr\n– Location: Nürnberg Messe\, Messezentrum 1\, 90471 Nürnberg – Foyer und Raum Sydney \nWir freuen uns auf Sie!
URL:https://teamkraftdernatur.de/event/doterra-stories-party-vorm-germanyday-in-nuernberg/
LOCATION:NürnbergMesse GmbH  Messezentrum 1 90471 Nürnberg
ATTACH;FMTTYPE=image/jpeg:https://teamkraftdernatur.de/wp-content/uploads/2025/06/OIP-8.jpeg
END:VEVENT
BEGIN:VEVENT
DTSTART;TZID=Europe/Berlin:20251115T100000
DTEND;TZID=Europe/Berlin:20251115T170000
DTSTAMP:20260423T215152
CREATED:20231204T153244Z
LAST-MODIFIED:20241111T130357Z
UID:11682-1763200800-1763226000@teamkraftdernatur.de
SUMMARY:doTERRA Germany Day für Kunden\, Neuinteressenten und Berater
DESCRIPTION:Voller Vorfreude blicken wir auf den Herbst 2025 mit einem besonderem Highlight: Am Samstag\, den 15. November findet in Nürnberg unser größtes EVENT in Deutschland statt: der dōTERRA Germany Day 2025. Wir arbeiten bereits auf Hochtouren\, um Sie mit einem vielfältigen Programm rund um ätherische Öle begrüßen zu können. \nAnmeldelink: Germany Day 2025 Tickets\, Sa\, 15.11.2025 um 10:00 Uhr | Eventbrite \nOrt: Messezentrum 1 in 90471 Nürnberg
URL:https://teamkraftdernatur.de/event/doterra-germany-day-fuer-kunden-neuinteressenten-und-berater/
LOCATION:Nürnberg\, Messezentrum 1\, Nürnberg\, 90471\, Germany
ATTACH;FMTTYPE=image/jpeg:https://teamkraftdernatur.de/wp-content/uploads/2023/12/pexels-markusspiske-10101095-scaled.jpg
END:VEVENT
BEGIN:VEVENT
DTSTART;TZID=Europe/Berlin:20251118T193000
DTEND;TZID=Europe/Berlin:20251118T200000
DTSTAMP:20260423T215152
CREATED:20251029T144326Z
LAST-MODIFIED:20251029T144407Z
UID:12824-1763494200-1763496000@teamkraftdernatur.de
SUMMARY:Online-Zoom: Wege aus der mentalen Gesundheitskrise
DESCRIPTION:Es spricht Juliana Hiebl – zum Thema „Wege aus der mentalen Gesundheitskrise“. Juliana hat im sozial psychologischen Dienst als Einsatzhelferin eine Ausbildung in Stressbearbeitung nach belastenden Ereignissen absolviert. Das Autumn Kit\, vor allem mit den Adaptiv Kapseln bietet hier unglaubliche Unterstützung. Den Link stellen wir unter Online Veranstaltungen für euch \nDen Zugangslink findest du hier Vertiefungsabende Aufzeichnung & ZUGANGSLINKS für die ZOOM-TERMINE im internen Kundenbereich\, zudem du dich einmal registrieren und dann anmelden musst. Die Freischaltung der Registrierung kann bis zu 5 Tage in Anspruch nehmen. Du kannst auch deinen Wellness Botschafter kontaktieren oder den Link aus dem Telegram Kanal Kraft der Natur nehmen.
URL:https://teamkraftdernatur.de/event/online-zoom-wege-aus-der-emotionalen-gesundheitskrise/
ATTACH;FMTTYPE=image/png:https://teamkraftdernatur.de/wp-content/uploads/2025/10/vertiefende-Vortraege-2.png
END:VEVENT
BEGIN:VEVENT
DTSTART;TZID=Europe/Berlin:20251125T190000
DTEND;TZID=Europe/Berlin:20251125T203000
DTSTAMP:20260423T215152
CREATED:20250805T080937Z
LAST-MODIFIED:20250805T083921Z
UID:12724-1764097200-1764102600@teamkraftdernatur.de
SUMMARY:HERZENSBUSINESS – erfahre von den Möglichkeiten im doTERRA Business
DESCRIPTION:doTERRA Herzens-Business – Mehr vom Leben \nDu möchtest deine doTERRA-Produkte refinanzieren oder dir 500€ zusätzlich verdienen? In diesem Online-Vortrag zeige ich dir\, wie es geht – mit Herz\, Liebe und ganz einfach. \nDu erfährst: \n\nWie du deine Produkte kostenlos bekommst\nDer Weg zu 500€ Zusatzeinkommen\nVom kleinen Start zum großen Einkommen\nAuthentisch teilen\, was du liebst\n\nPerfekt für dich\, wenn du: \n\nDeine Produkte nicht mehr bezahlen möchtest\nFlexibel von zuhause arbeiten willst\nMenschen helfen und dabei verdienen möchtest\n\nKein Verkaufsdruck\, keine komplizierten Strategien – nur ehrliche Tipps für deinen erfolgreichen Start mit einem Business\, das von Herzen kommt. \nMelde dich jetzt an! \nDen Zugangslink findest du hier Vertiefungsabende Aufzeichnung & ZUGANGSLINKS für die ZOOM-TERMINE im internen Kundenbereich\, zudem du dich einmal registrieren und dann anmelden musst. Die Freischaltung der Registrierung kann bis zu 5 Tage in Anspruch nehmen. Du kannst auch deinen Wellness Botschafter kontaktieren oder den Link aus dem Telegram Kanal Kraft der Natur nehmen.
URL:https://teamkraftdernatur.de/event/herzensbusiness-erfahre-von-den-moeglichkeiten-im-doterra-business-2/
ATTACH;FMTTYPE=image/png:https://teamkraftdernatur.de/wp-content/uploads/2025/08/Neue-Berater.png
END:VEVENT
BEGIN:VEVENT
DTSTART;TZID=Europe/Berlin:20251126T193000
DTEND;TZID=Europe/Berlin:20251126T203000
DTSTAMP:20260423T215152
CREATED:20251105T140131Z
LAST-MODIFIED:20251105T140131Z
UID:12844-1764185400-1764189000@teamkraftdernatur.de
SUMMARY:ONLINE KICKOFF: Rauhnächte 2025/2026 mit ätherischen Ölen
DESCRIPTION:✨ Gemeinsam durch die Rauhnächte 2025/2026 ✨ \nWir begleiten Dich kostenlos und mit ganz viel Liebe zum Detail durch diese magische Zeit der Reflexion und Neuorientierung. Die Rauhnächte sind eine wunderbare Gelegenheit\, innezuhalten\, Altes loszulassen und das neue Jahr bewusst zu begrüßen. \n💫 Was Dich erwartet: \n\n\nEin liebevoller Kickoff\, in dem Du erfährst\, wie Du Dich optimal auf die Rauhnächte vorbereiten kannst.→ Welche Räucherwerke\, Öle und kleinen Rituale Dir dabei helfen\, Dich zu zentrieren und die Energie dieser besonderen Zeit zu spüren. Rechtzeitig im November\, damit Du noch Zeit hast Dinge zu besorgen und Dich vorzubereiten. \n\n\nEine begleitende WhatsApp-Gruppe\, in der wir Dich Tag für Tag mit Inspirationen\, Impulsen und kleinen Übungen durch die Rauhnächte führen. \n\n\n🤍 Wichtig:Dieses Herzensprojekt ist kostenlos und exklusiv für unsere Kunden & Teampartner im Team Kraft der Natur und im Oeleleben Team. Denk Link findest Du im internen Bereich oder bei Deiner Wellnessbotschafterin bzw. Deinem Wellness Botschafter. https://teamkraftdernatur.de/vertiefungsabende-zugangslinks/ \nDu bist noch kein doTERRA Kunde? Schreib gern an: nicole@teamkraftdernatur.de \nMach es Dir gemütlich\, zünde eine Kerze an – und erlebe mit uns die Magie der Rauhnächte 🌙✨
URL:https://teamkraftdernatur.de/event/online-kickoff-rauhnaechte-2025-2026-mit-aetherischen-oelen/
ATTACH;FMTTYPE=image/jpeg:https://teamkraftdernatur.de/wp-content/uploads/2025/11/WhatsApp-Image-2025-11-03-at-16.31.46.jpeg
END:VEVENT
END:VCALENDAR