BEGIN:VCALENDAR
VERSION:2.0
PRODID:-//Team Kraft der Natur - ECPv6.15.20//NONSGML v1.0//EN
CALSCALE:GREGORIAN
METHOD:PUBLISH
X-WR-CALNAME:Team Kraft der Natur
X-ORIGINAL-URL:https://teamkraftdernatur.de
X-WR-CALDESC:Veranstaltungen für Team Kraft der Natur
REFRESH-INTERVAL;VALUE=DURATION:PT1H
X-Robots-Tag:noindex
X-PUBLISHED-TTL:PT1H
BEGIN:VTIMEZONE
TZID:Europe/Berlin
BEGIN:DAYLIGHT
TZOFFSETFROM:+0100
TZOFFSETTO:+0200
TZNAME:CEST
DTSTART:20240331T010000
END:DAYLIGHT
BEGIN:STANDARD
TZOFFSETFROM:+0200
TZOFFSETTO:+0100
TZNAME:CET
DTSTART:20241027T010000
END:STANDARD
BEGIN:DAYLIGHT
TZOFFSETFROM:+0100
TZOFFSETTO:+0200
TZNAME:CEST
DTSTART:20250330T010000
END:DAYLIGHT
BEGIN:STANDARD
TZOFFSETFROM:+0200
TZOFFSETTO:+0100
TZNAME:CET
DTSTART:20251026T010000
END:STANDARD
BEGIN:DAYLIGHT
TZOFFSETFROM:+0100
TZOFFSETTO:+0200
TZNAME:CEST
DTSTART:20260329T010000
END:DAYLIGHT
BEGIN:STANDARD
TZOFFSETFROM:+0200
TZOFFSETTO:+0100
TZNAME:CET
DTSTART:20261025T010000
END:STANDARD
END:VTIMEZONE
BEGIN:VEVENT
DTSTART;TZID=Europe/Berlin:20250903T190000
DTEND;TZID=Europe/Berlin:20250903T200000
DTSTAMP:20260423T183221
CREATED:20250805T073543Z
LAST-MODIFIED:20250805T073543Z
UID:12706-1756926000-1756929600@teamkraftdernatur.de
SUMMARY:Live Zoom: doTERRA Lifestyle – What’s New – September
DESCRIPTION:Live Zoom: doTERRA Lifestyle – What’s New \nEntdecke die neuesten Entwicklungen bei doTERRA in diesem informativen Live-Zoom-Event! Erfahre aus erster Hand\, welche innovativen ätherischen Öle und Wellness-Produkte in diesem Monat neu im Sortiment sind. \nDie Veranstaltung bietet dir wertvolle Einblicke in bewährte Rezepte\, praktisches Anwendungswissen und hilfreiche Tipps für den Alltag. Besonders interessant: Du erhältst Informationen zu wichtigen Terminen\, die du nicht verpassen solltest\, sowie clevere Strategien für optimale Bestellungen. \nDas Format „Clever und Informativ“ verspricht eine kompakte\, aber umfassende Übersicht über alles Wissenswerte rund um die doTERRA-Neuheiten. Perfekt für alle\, die sich über die neuesten Trends im Bereich natürlicher Wellness-Lösungen informieren möchten. Den Zuganagslink findest du hier Vertiefungsabende Aufzeichnung & ZUGANGSLINKS für die ZOOM-TERMINE im internen Kundenbereich\, zudem du dich einmal registrieren und dann anmelden musst. Die Freischaltung der Registrierung kann bis zu 5 Tage in Anspruch nehmen. Du kannst auch deinen Wellbess Botschafter kontaktieren oder den Link aus dem Telegram Kanal Kraft der Natur nehmen.
URL:https://teamkraftdernatur.de/event/live-zoom-doterra-lifestyle-whats-new-september/
ATTACH;FMTTYPE=image/jpeg:https://teamkraftdernatur.de/wp-content/uploads/2025/08/photo_5220057467663285011_y.jpg
END:VEVENT
BEGIN:VEVENT
DTSTART;TZID=Europe/Berlin:20250909T190000
DTEND;TZID=Europe/Berlin:20250909T203000
DTSTAMP:20260423T183221
CREATED:20250805T082144Z
LAST-MODIFIED:20250811T183649Z
UID:12726-1757444400-1757449800@teamkraftdernatur.de
SUMMARY:Wellness Made Simple - Dein Einstieg in ein gesünderes Leben - live Zoom für Neuinteressenten und bestehende Kunden
DESCRIPTION:Entdecke\, wie einfach Wellness sein kann! Mit nur 3 hochwertigen Nahrungsergänzungsprodukten und ausgewählten ätherischen Ölen startest du täglich in ein vitaleres Leben. \nDas Starter-Trio für deinen Wellness-Alltag: \n\nGrundversorgung mit essentiellen Nährstoffen\nAusgewählte ätherische Öle für Körper und Geist\nEinfache tägliche Routine ohne Komplikationen\n\nPerfekt für dich\, wenn du: \n\nBereits doTERRA-Kunde bist und mehr erreichen möchtest\nEndlich mit Wellness starten willst – einfach und unkompliziert\nDeine Gesundheit auf natürliche Weise unterstützen möchtest\nNach einer simplen\, aber effektiven Routine suchst\n\nSchluss mit komplizierten Wellness-Plänen! Hier erfährst du die Grundlagen für einen gesunden Start – reduziert auf das Wesentliche\, aber mit maximaler Wirkung. \nStarte noch heute deine Wellness-Reise – simple\, aber kraftvoll! \nDen Zugangslink findest du hier Vertiefungsabende Aufzeichnung & ZUGANGSLINKS für die ZOOM-TERMINE im internen Kundenbereich\, zudem du dich einmal registrieren und dann anmelden musst. Die Freischaltung der Registrierung kann bis zu 5 Tage in Anspruch nehmen. Du kannst auch deinen Welless Botschafter kontaktieren oder den Link aus dem Telegram Kanal Kraft der Natur nehmen.
URL:https://teamkraftdernatur.de/event/wellness-made-simple-dein-einstieg-in-ein-gesuenderes-leben-live-zoom-fuer-neuinteressenten-und-bestehende-kunden/
ATTACH;FMTTYPE=image/png:https://teamkraftdernatur.de/wp-content/uploads/2025/08/Neue-Berater-1.png
END:VEVENT
BEGIN:VEVENT
DTSTART;TZID=Europe/Berlin:20250910T193000
DTEND;TZID=Europe/Berlin:20250910T203000
DTSTAMP:20260423T183221
CREATED:20250724T140018Z
LAST-MODIFIED:20250812T085259Z
UID:12701-1757532600-1757536200@teamkraftdernatur.de
SUMMARY:Natürlich gesunde und glückliche Schulkinder - unterstützt mit doTERRA
DESCRIPTION:Liebe Interessierte\, \nschaltet gern zu bei diesem informativen Online Vortrag für alle Neuinteressenten und Kunden im Team Kraft der Natur. \nDen Zoom Link zum Vortrag findest du im internen Bereich: https://teamkraftdernatur.de/vertiefungsabende-zugangslinks/ \n 
URL:https://teamkraftdernatur.de/event/natuerlich-gesunde-und-glueckliche-schulkinder-unterstuetzt-mit-doterra/
LOCATION:Online\, Online Event
ATTACH;FMTTYPE=image/jpeg:https://teamkraftdernatur.de/wp-content/uploads/2025/07/WhatsApp-Image-2025-08-12-at-10.49.13.jpeg
END:VEVENT
BEGIN:VEVENT
DTSTART;TZID=Europe/Berlin:20250918T190000
DTEND;TZID=Europe/Berlin:20250918T203000
DTSTAMP:20260423T183221
CREATED:20250805T083319Z
LAST-MODIFIED:20250805T093123Z
UID:12731-1758222000-1758227400@teamkraftdernatur.de
SUMMARY:Dein Start in die Öle-Welt - Die Grundlagen verstehen und Top Ten Öle für deine Familie
DESCRIPTION:Entdecke die faszinierende Welt der ätherischen Öle! In dieser Einführung lernst du die 10 wichtigsten Grundöle von doTERRA kennen und verstehst\, warum sie so besonders sind. \nWas dich erwartet: \n\nDie 10 essentiellen Grundöle im Detail\n3 sichere Anwendungsarten: aromatisch\, äußerlich\, innerlich\nWarum doTERRA-Öle einzigartig sicher sind\nPraktische Einsatzmöglichkeiten für den Alltag\nwarum doTERRA Öle vielseitig einsetzbar\, lange haltbar und damit günstig sind\n\nPerfekt für: \n\nAbsolute Einsteiger in die Aromatherapie\nBestehende Kunden\, die ihr Wissen auffrischen möchten\nAlle Teammitglieder als Grundlagenschulung\nInteressenten\, die mehr über ätherische Öle erfahren wollen\n\nNeu dabei? Schreib gern nicole@teamkraftdernatur.de wenn du vorab Proben testen möchtest\, oder nutze direkt den Link: https://forms.gle/fc3gX4o5vGeM3wQY7 \nStarte deine Reise in die wunderbare Welt der ätherischen Öle – fundiert\, sicher und mit System! \nDen Zugangslink findest du hier Vertiefungsabende Aufzeichnung & ZUGANGSLINKS für die ZOOM-TERMINE im internen Kundenbereich\, zudem du dich einmal registrieren und dann anmelden musst. Die Freischaltung der Registrierung kann bis zu 5 Tage in Anspruch nehmen. Du kannst auch deinen Wellness Botschafter kontaktieren oder den Link aus dem Telegram Kanal Kraft der Natur nehmen.
URL:https://teamkraftdernatur.de/event/dein-start-in-die-oele-welt-die-grundlagen-verstehen-und-top-ten-oele-fuer-deine-familie/
ATTACH;FMTTYPE=image/png:https://teamkraftdernatur.de/wp-content/uploads/2025/08/Neue-Berater-2.png
END:VEVENT
BEGIN:VEVENT
DTSTART;TZID=Europe/Berlin:20250925T190000
DTEND;TZID=Europe/Berlin:20250925T203000
DTSTAMP:20260423T183221
CREATED:20250805T080718Z
LAST-MODIFIED:20250805T080718Z
UID:12722-1758826800-1758832200@teamkraftdernatur.de
SUMMARY:HERZENSBUSINESS - erfahre von den Möglichkeiten im doTERRA Business
DESCRIPTION:doTERRA Herzens-Business – Mehr vom Leben \nDu möchtest deine doTERRA-Produkte refinanzieren oder dir 500€ zusätzlich verdienen? In diesem Online-Vortrag zeige ich dir\, wie es geht – mit Herz\, Liebe und ganz einfach. \nDu erfährst: \n\nWie du deine Produkte kostenlos bekommst\nDer Weg zu 500€ Zusatzeinkommen\nVom kleinen Start zum großen Einkommen\nAuthentisch teilen\, was du liebst\n\nPerfekt für dich\, wenn du: \n\nDeine Produkte nicht mehr bezahlen möchtest\nFlexibel von zuhause arbeiten willst\nMenschen helfen und dabei verdienen möchtest\n\nKein Verkaufsdruck\, keine komplizierten Strategien – nur ehrliche Tipps für deinen erfolgreichen Start mit einem Business\, das von Herzen kommt. \nMelde dich jetzt an! \nDen Zugangslink findest du hier Vertiefungsabende Aufzeichnung & ZUGANGSLINKS für die ZOOM-TERMINE im internen Kundenbereich\, zudem du dich einmal registrieren und dann anmelden musst. Die Freischaltung der Registrierung kann bis zu 5 Tage in Anspruch nehmen. Du kannst auch deinen Welless Botschafter kontaktieren oder den Link aus dem Telegram Kanal Kraft der Natur nehmen.
URL:https://teamkraftdernatur.de/event/herzensbusiness-erfahre-von-den-moeglichkeiten-im-doterra-business/
ATTACH;FMTTYPE=image/png:https://teamkraftdernatur.de/wp-content/uploads/2025/08/Neue-Berater.png
END:VEVENT
END:VCALENDAR