BEGIN:VCALENDAR
VERSION:2.0
PRODID:-//Team Kraft der Natur - ECPv6.15.20//NONSGML v1.0//EN
CALSCALE:GREGORIAN
METHOD:PUBLISH
X-WR-CALNAME:Team Kraft der Natur
X-ORIGINAL-URL:https://teamkraftdernatur.de
X-WR-CALDESC:Veranstaltungen für Team Kraft der Natur
REFRESH-INTERVAL;VALUE=DURATION:PT1H
X-Robots-Tag:noindex
X-PUBLISHED-TTL:PT1H
BEGIN:VTIMEZONE
TZID:Europe/Berlin
BEGIN:DAYLIGHT
TZOFFSETFROM:+0100
TZOFFSETTO:+0200
TZNAME:CEST
DTSTART:20240331T010000
END:DAYLIGHT
BEGIN:STANDARD
TZOFFSETFROM:+0200
TZOFFSETTO:+0100
TZNAME:CET
DTSTART:20241027T010000
END:STANDARD
BEGIN:DAYLIGHT
TZOFFSETFROM:+0100
TZOFFSETTO:+0200
TZNAME:CEST
DTSTART:20250330T010000
END:DAYLIGHT
BEGIN:STANDARD
TZOFFSETFROM:+0200
TZOFFSETTO:+0100
TZNAME:CET
DTSTART:20251026T010000
END:STANDARD
BEGIN:DAYLIGHT
TZOFFSETFROM:+0100
TZOFFSETTO:+0200
TZNAME:CEST
DTSTART:20260329T010000
END:DAYLIGHT
BEGIN:STANDARD
TZOFFSETFROM:+0200
TZOFFSETTO:+0100
TZNAME:CET
DTSTART:20261025T010000
END:STANDARD
END:VTIMEZONE
BEGIN:VEVENT
DTSTART;TZID=Europe/Berlin:20250805T190000
DTEND;TZID=Europe/Berlin:20250805T200000
DTSTAMP:20260423T165912
CREATED:20250805T073323Z
LAST-MODIFIED:20250805T073323Z
UID:12703-1754420400-1754424000@teamkraftdernatur.de
SUMMARY:Live Zoom: doTERRA Lifestyle - What's New - August
DESCRIPTION:Live Zoom: doTERRA Lifestyle – What’s New \nEntdecke die neuesten Entwicklungen bei doTERRA in diesem informativen Live-Zoom-Event! Erfahre aus erster Hand\, welche innovativen ätherischen Öle und Wellness-Produkte in diesem Monat neu im Sortiment sind. \nDie Veranstaltung bietet dir wertvolle Einblicke in bewährte Rezepte\, praktisches Anwendungswissen und hilfreiche Tipps für den Alltag. Besonders interessant: Du erhältst Informationen zu wichtigen Terminen\, die du nicht verpassen solltest\, sowie clevere Strategien für optimale Bestellungen. \nDas Format „Clever und Informativ“ verspricht eine kompakte\, aber umfassende Übersicht über alles Wissenswerte rund um die doTERRA-Neuheiten. Perfekt für alle\, die sich über die neuesten Trends im Bereich natürlicher Wellness-Lösungen informieren möchten. Den Zuganagslink findest du hier Vertiefungsabende Aufzeichnung & ZUGANGSLINKS für die ZOOM-TERMINE im internen Kundenbereich\, zudem du dich einmal registrieren und dann anmelden musst. Die Freischaltung der Registrierung kann bis zu 5 Tage in Anspruch nehmen. Du kannst auch deinen Wellbess Botschafter kontaktieren oder den Link aus dem Telegram Kanal Kraft der Natur nehmen.
URL:https://teamkraftdernatur.de/event/live-zoom-doterra-lifestyle-whats-new-august/
ATTACH;FMTTYPE=image/jpeg:https://teamkraftdernatur.de/wp-content/uploads/2025/08/photo_5220057467663285011_y.jpg
END:VEVENT
BEGIN:VEVENT
DTSTART;TZID=Europe/Berlin:20250812T190000
DTEND;TZID=Europe/Berlin:20250812T200000
DTSTAMP:20260423T165912
CREATED:20250430T141645Z
LAST-MODIFIED:20250430T141735Z
UID:12627-1755025200-1755028800@teamkraftdernatur.de
SUMMARY:Vertiefende - Online Weiterbildung für Kunden und Berater: Ätherische Öle in der Küche - Natürlich würzen & Genießen
DESCRIPTION:Liebe Interessierte\, \nschaltet gern zu bei diesem informativen Online Vortrag für alle Neuinteressenten und Kunden im Team Kraft der Natur. \nDen Zoom Link zum Vortrag findest du im internen Bereich: https://teamkraftdernatur.de/vertiefungsabende-zugangslinks/ \n 
URL:https://teamkraftdernatur.de/event/vertiefende-online-weiterbildung-aetherische-oele-in-der-kueche-natuerlich-wuerzen-geniessen/
ATTACH;FMTTYPE=image/jpeg:https://teamkraftdernatur.de/wp-content/uploads/2025/04/WhatsApp-Image-2025-04-29-at-18.00.00.jpeg
END:VEVENT
END:VCALENDAR