BEGIN:VCALENDAR
VERSION:2.0
PRODID:-//Team Kraft der Natur - ECPv6.15.20//NONSGML v1.0//EN
CALSCALE:GREGORIAN
METHOD:PUBLISH
X-WR-CALNAME:Team Kraft der Natur
X-ORIGINAL-URL:https://teamkraftdernatur.de
X-WR-CALDESC:Veranstaltungen für Team Kraft der Natur
REFRESH-INTERVAL;VALUE=DURATION:PT1H
X-Robots-Tag:noindex
X-PUBLISHED-TTL:PT1H
BEGIN:VTIMEZONE
TZID:Europe/Berlin
BEGIN:DAYLIGHT
TZOFFSETFROM:+0100
TZOFFSETTO:+0200
TZNAME:CEST
DTSTART:20240331T010000
END:DAYLIGHT
BEGIN:STANDARD
TZOFFSETFROM:+0200
TZOFFSETTO:+0100
TZNAME:CET
DTSTART:20241027T010000
END:STANDARD
BEGIN:DAYLIGHT
TZOFFSETFROM:+0100
TZOFFSETTO:+0200
TZNAME:CEST
DTSTART:20250330T010000
END:DAYLIGHT
BEGIN:STANDARD
TZOFFSETFROM:+0200
TZOFFSETTO:+0100
TZNAME:CET
DTSTART:20251026T010000
END:STANDARD
BEGIN:DAYLIGHT
TZOFFSETFROM:+0100
TZOFFSETTO:+0200
TZNAME:CEST
DTSTART:20260329T010000
END:DAYLIGHT
BEGIN:STANDARD
TZOFFSETFROM:+0200
TZOFFSETTO:+0100
TZNAME:CET
DTSTART:20261025T010000
END:STANDARD
END:VTIMEZONE
BEGIN:VEVENT
DTSTART;TZID=Europe/Berlin:20250408T190000
DTEND;TZID=Europe/Berlin:20250408T200000
DTSTAMP:20260421T071621
CREATED:20231204T151238Z
LAST-MODIFIED:20250326T095138Z
UID:11667-1744138800-1744142400@teamkraftdernatur.de
SUMMARY:Business Call - für alle Berater (Rangunabhängig)
DESCRIPTION:Informationen rund um dein doTERRA Business\, Updates\, Ehrungen\, Termine\, Highlights direkt von doTERRA. Für alle\, die ein stabiles doterra Business aufbauen möchten ein MUSS. \nAlle Berater\, jeder darf das nutzen. Rang unabhängig.  \nDer Call findet in 2025 an jedem 2. Dienstag des Monats statt – wie gehabt 19 – 20 Uhr. Dadurch wird es die Baumschule nicht mehr geben. Der Call wird aufgezeichnet und steht euch danach für 7 Tage als Recording zur Verfügung. Wir werden erst einmal weiterhin auf Zoom bleiben. Je nach Teilnehmer-Anzahl könnte es sein\, dass wir wieder auf YouTube switchen müssen. Im August und Dezember wird kein Call stattfinden\, da Sommer- und Winterpause. \nLink kommt per E-Mail. Oder hier im internen Bereich: https://teamkraftdernatur.de/teamzoom-berater-registrierungslink/
URL:https://teamkraftdernatur.de/event/business-call-fuer-alle-berater-rangunabhaengig-2/
ATTACH;FMTTYPE=image/png:https://teamkraftdernatur.de/wp-content/uploads/2023/12/DOTERRA-BUSINESS-7.png
END:VEVENT
BEGIN:VEVENT
DTSTART;TZID=Europe/Berlin:20250424T193000
DTEND;TZID=Europe/Berlin:20250424T203000
DTSTAMP:20260421T071621
CREATED:20250227T145840Z
LAST-MODIFIED:20250408T135259Z
UID:12552-1745523000-1745526600@teamkraftdernatur.de
SUMMARY:Vertiefende Weiterbildung für alle Kunden & Berater zum Thema: Harmonie & Balance
DESCRIPTION:Liebe Interessierte\, \nschaltet gern zu bei diesem informativen Online Vortrag für alle Neuinteressenten und Kunden im Team Kraft der Natur. \nDen Zoom Link zum Vortrag findest du im internen Bereich: https://teamkraftdernatur.de/vertiefungsabende-zugangslinks/
URL:https://teamkraftdernatur.de/event/vertiefende-weiterbildung-fuer-alle-kunden-berater-zum-thema-darmgesundheit-verdauung/
ATTACH;FMTTYPE=image/jpeg:https://teamkraftdernatur.de/wp-content/uploads/2025/02/WhatsApp-Image-2025-04-01-at-16.59.19.jpeg
END:VEVENT
END:VCALENDAR