BEGIN:VCALENDAR
VERSION:2.0
PRODID:-//Team Kraft der Natur - ECPv6.15.20//NONSGML v1.0//EN
CALSCALE:GREGORIAN
METHOD:PUBLISH
X-ORIGINAL-URL:https://teamkraftdernatur.de
X-WR-CALDESC:Veranstaltungen für Team Kraft der Natur
REFRESH-INTERVAL;VALUE=DURATION:PT1H
X-Robots-Tag:noindex
X-PUBLISHED-TTL:PT1H
BEGIN:VTIMEZONE
TZID:Europe/Berlin
BEGIN:DAYLIGHT
TZOFFSETFROM:+0100
TZOFFSETTO:+0200
TZNAME:CEST
DTSTART:20210328T010000
END:DAYLIGHT
BEGIN:STANDARD
TZOFFSETFROM:+0200
TZOFFSETTO:+0100
TZNAME:CET
DTSTART:20211031T010000
END:STANDARD
BEGIN:DAYLIGHT
TZOFFSETFROM:+0100
TZOFFSETTO:+0200
TZNAME:CEST
DTSTART:20220327T010000
END:DAYLIGHT
BEGIN:STANDARD
TZOFFSETFROM:+0200
TZOFFSETTO:+0100
TZNAME:CET
DTSTART:20221030T010000
END:STANDARD
BEGIN:DAYLIGHT
TZOFFSETFROM:+0100
TZOFFSETTO:+0200
TZNAME:CEST
DTSTART:20230326T010000
END:DAYLIGHT
BEGIN:STANDARD
TZOFFSETFROM:+0200
TZOFFSETTO:+0100
TZNAME:CET
DTSTART:20231029T010000
END:STANDARD
END:VTIMEZONE
BEGIN:VEVENT
DTSTART;TZID=Europe/Berlin:20221102T193000
DTEND;TZID=Europe/Berlin:20221102T203000
DTSTAMP:20260423T201350
CREATED:20220914T103833Z
LAST-MODIFIED:20220914T104005Z
UID:10385-1667417400-1667421000@teamkraftdernatur.de
SUMMARY:DETOX Abschlusszoom inkl. Tombola
DESCRIPTION:Wie geht’s nach der Detox-Kur weiter? Welche integrierten Gewohnheiten sollte ich beibehalten?\nWas kann ich tun\, um die Schadstoffbelastung meines Körpers I Zuhauses zukünftig zu reduzieren?\nZum Abschluss gibt es eine tolle Verlosung.\nDen Teilnahmelink bekommst du wie immer über die Detox What´s App Gruppen und deinem Berater.\n\nInfos zum Detoxen erhälst du im internen Bereich hier: doTERRA 30 Tage Detox Programm zur Entgiftung & Erneuerung (teamkraftdernatur.de)
URL:https://teamkraftdernatur.de/event/detox-abschlusszoom-inkl-tombola/
ATTACH;FMTTYPE=image/png:https://teamkraftdernatur.de/wp-content/uploads/2022/09/Gesunde-Ernaehrung-1.png
END:VEVENT
BEGIN:VEVENT
DTSTART;TZID=Europe/Berlin:20221108T193000
DTEND;TZID=Europe/Berlin:20221108T210000
DTSTAMP:20260423T201350
CREATED:20220914T094146Z
LAST-MODIFIED:20220914T103405Z
UID:10374-1667935800-1667941200@teamkraftdernatur.de
SUMMARY:Weihnachten mit ätherischen Ölen  - Online Event
DESCRIPTION:Wir laden herzlich alle Kunden und Berater zu einem DIY Online Vortrag zum Thema „Weihnachten mit ätherischen Ölen“ ein.\nWie kannst du ganz einfach und preiswert vielen Menschen in deinem Umfeld eine „dufte“ und Gesundheit unterstützende Freude machen? Welche Dinge benötigst du dafür und wie kannst du es easy umsetzen? Das wird ein zauberhafter Abend und lässt die Vorfreude auf Weihnachten steigen.\nDinge selbst herzustellen kann so viel Freude machen und andere in deinem Umfeld vielleicht auch für die Öle begeistern. Deshalb\, teile diese Einladung gern mit deinem Team und deinen Kunden\, ihr werdet staunen was alles möglich ist.\n\n\nBitte wende dich an deinen doTERRA Berater im Team Kraft der Natur\, um den Zoomlink für dieses Event zu erhalten.
URL:https://teamkraftdernatur.de/event/selbstgemachte-geschenke-mit-aetherischen-oelen-online-event/
ATTACH;FMTTYPE=image/png:https://teamkraftdernatur.de/wp-content/uploads/2022/09/Kopie-von-Einladungsbild-Emotionsvortrag-10-22.png
END:VEVENT
BEGIN:VEVENT
DTSTART;TZID=Europe/Berlin:20221110T200000
DTEND;TZID=Europe/Berlin:20221110T220000
DTSTAMP:20260423T201350
CREATED:20211209T122943Z
LAST-MODIFIED:20211209T122943Z
UID:9640-1668110400-1668117600@teamkraftdernatur.de
SUMMARY:Führungskräfte Training: Die besten Jahresendaktionen für dein doTERRA Business – so bist du fürs 2023 bestens vorbereitet!
DESCRIPTION:Unsere Webinare finden ausschliesslich in deutscher Sprache statt und sind für alle Wellness Advocates kostenlos. Mit diesem Angebot wollen wir einen Beitrag leisten\, um Deine Softskills auszubauen und Dein Mindset weiter zu entwickeln\, damit Du in Deiner Leiterschaft weiter wachsen kannst. \nPower auf Dauer – hier kannst du dich registrieren \n\n\n\nFührungskräfte Training:\nDie besten Jahresendaktionen für dein doTERRA Business – so bist du fürs 2023 bestens vorbereitet!\n\n\n\n\n\n\n\nWie planst du deinen Endspurt im alten Jahr? Bist du bereit noch einmal richtig Vollgas zu geben und damit einen wunderbaren Start ins 2023 zu schaffen? Wir erzählen heute aus unserem Nähkästchen und zeigen dir\, welche Aktionen wir in unserem reichen Erfahrungsschatz haben. Ein kunterbunter Abend voller Inspirationen und neuer Ideen für dich und dein Team! \nSei mit dabei und lade auch Deine Teammitglieder ein\, von denen Du glaubst\, dass sie das Potential haben\, um in ihrer Leiterschaft zu wachsen. \nAlle Angebote von www.power-auf-dauer.eu sind kostenlos.
URL:https://teamkraftdernatur.de/event/fuehrungskraefte-training-die-besten-jahresendaktionen-fuer-dein-doterra-business-so-bist-du-fuers-2023-bestens-vorbereitet/
ATTACH;FMTTYPE=image/png:https://teamkraftdernatur.de/wp-content/uploads/2021/12/Kopie-von-Kopie-von-Gold-Simple-New-Year-Instagram-Post.png
END:VEVENT
END:VCALENDAR