BEGIN:VCALENDAR
VERSION:2.0
PRODID:-//Team Kraft der Natur - ECPv6.15.20//NONSGML v1.0//EN
CALSCALE:GREGORIAN
METHOD:PUBLISH
X-WR-CALNAME:Team Kraft der Natur
X-ORIGINAL-URL:https://teamkraftdernatur.de
X-WR-CALDESC:Veranstaltungen für Team Kraft der Natur
REFRESH-INTERVAL;VALUE=DURATION:PT1H
X-Robots-Tag:noindex
X-PUBLISHED-TTL:PT1H
BEGIN:VTIMEZONE
TZID:Europe/Berlin
BEGIN:DAYLIGHT
TZOFFSETFROM:+0100
TZOFFSETTO:+0200
TZNAME:CEST
DTSTART:20240331T010000
END:DAYLIGHT
BEGIN:STANDARD
TZOFFSETFROM:+0200
TZOFFSETTO:+0100
TZNAME:CET
DTSTART:20241027T010000
END:STANDARD
BEGIN:DAYLIGHT
TZOFFSETFROM:+0100
TZOFFSETTO:+0200
TZNAME:CEST
DTSTART:20250330T010000
END:DAYLIGHT
BEGIN:STANDARD
TZOFFSETFROM:+0200
TZOFFSETTO:+0100
TZNAME:CET
DTSTART:20251026T010000
END:STANDARD
BEGIN:DAYLIGHT
TZOFFSETFROM:+0100
TZOFFSETTO:+0200
TZNAME:CEST
DTSTART:20260329T010000
END:DAYLIGHT
BEGIN:STANDARD
TZOFFSETFROM:+0200
TZOFFSETTO:+0100
TZNAME:CET
DTSTART:20261025T010000
END:STANDARD
END:VTIMEZONE
BEGIN:VEVENT
DTSTART;TZID=Europe/Berlin:20251015T193000
DTEND;TZID=Europe/Berlin:20251015T203000
DTSTAMP:20260423T213435
CREATED:20250927T115314Z
LAST-MODIFIED:20250927T115314Z
UID:12812-1760556600-1760560200@teamkraftdernatur.de
SUMMARY:Online Weiterbildung für Kunden & Berater: Natürliche Unterstützung für ein starkes Immunsystem
DESCRIPTION:Liebe Interessierte\, \nschaltet gern zu bei diesem informativen Online Vortrag für alle Neuinteressenten und Kunden im Team Kraft der Natur. \nDen Zoom Link zum Vortrag findest du im internen Bereich: https://teamkraftdernatur.de/vertiefungsabende-zugangslinks/
URL:https://teamkraftdernatur.de/event/online-weiterbildung-fuer-kunden-berater-natuerliche-unterstuetzung-fuer-ein-starkes-immunsystem/
ATTACH;FMTTYPE=image/jpeg:https://teamkraftdernatur.de/wp-content/uploads/2025/09/photo_5386468694261102061_y.jpg
END:VEVENT
END:VCALENDAR