BEGIN:VCALENDAR
VERSION:2.0
PRODID:-//Team Kraft der Natur - ECPv6.15.20//NONSGML v1.0//EN
CALSCALE:GREGORIAN
METHOD:PUBLISH
X-WR-CALNAME:Team Kraft der Natur
X-ORIGINAL-URL:https://teamkraftdernatur.de
X-WR-CALDESC:Veranstaltungen für Team Kraft der Natur
REFRESH-INTERVAL;VALUE=DURATION:PT1H
X-Robots-Tag:noindex
X-PUBLISHED-TTL:PT1H
BEGIN:VTIMEZONE
TZID:Europe/Berlin
BEGIN:DAYLIGHT
TZOFFSETFROM:+0100
TZOFFSETTO:+0200
TZNAME:CEST
DTSTART:20240331T010000
END:DAYLIGHT
BEGIN:STANDARD
TZOFFSETFROM:+0200
TZOFFSETTO:+0100
TZNAME:CET
DTSTART:20241027T010000
END:STANDARD
BEGIN:DAYLIGHT
TZOFFSETFROM:+0100
TZOFFSETTO:+0200
TZNAME:CEST
DTSTART:20250330T010000
END:DAYLIGHT
BEGIN:STANDARD
TZOFFSETFROM:+0200
TZOFFSETTO:+0100
TZNAME:CET
DTSTART:20251026T010000
END:STANDARD
BEGIN:DAYLIGHT
TZOFFSETFROM:+0100
TZOFFSETTO:+0200
TZNAME:CEST
DTSTART:20260329T010000
END:DAYLIGHT
BEGIN:STANDARD
TZOFFSETFROM:+0200
TZOFFSETTO:+0100
TZNAME:CET
DTSTART:20261025T010000
END:STANDARD
END:VTIMEZONE
BEGIN:VEVENT
DTSTART;VALUE=DATE:20251003
DTEND;VALUE=DATE:20251005
DTSTAMP:20260423T194536
CREATED:20250314T084901Z
LAST-MODIFIED:20250314T084959Z
UID:12569-1759449600-1759622399@teamkraftdernatur.de
SUMMARY:Leadership Retreat - für alle Berater ab Rang Silber - in Spanien MADRID
DESCRIPTION:Sie möchten Ihr Team vergrößern und Ihre persönlichen Führungsqualitäten weiterentwickeln? Dann sollten Sie sich unsere zweitägige Veranstaltung\, auf der es um Ihr Geschäft und um Ihre Ziele gehen wird\, nicht entgehen lassen. \nWas ist das Leadership Retreat? \nDas Leadership Retreat führt Leader zusammen und ermöglicht den Austausch von Wissen und Fähigkeiten\, wobei der Schwerpunkt auf dem Ausbau des Geschäfts und auf der persönlichen Entwicklung liegt. Es ist eine Gelegenheit\, die es so noch nie bei dōTERRA gab. Sie werden staunen\, wie Sie mit Ihrem Wissen über die Produkte von dōTERRA und Ihr Team das Leben vieler Menschen verändern und stärken können. \nQualifikationsphase \nUm an der Veranstaltung teilnehmen zu können\, müssen die Qualifikanten innerhalb der folgenden Qualifikationsphase mindestens 1x den Rang Silver oder höher erreichen: \n1. Januar 2025– 30. Juni 2025\nDie Qualifikationskriterien spiegeln unser unglaubliches Wachstum in Europa wider. Unsere Ergebnisse haben alle Erwartungen übertroffen und markieren eine bedeutende neue Ära für dōTERRA Europe. Es ist ein Signal an alle\, dass man mit Engagement und Leidenschaft großartige Leadership-Kompetenzen entwickeln kann. \nHalten Sie Ausschau nach einer weiteren E-Mail von uns\, damit Sie als erste erfahren\, wann die Tickets freigeschaltet werden. Qualifizieren Sie sich und erfahren Sie beim Leadership Retreat 2025\, wie Sie Ihre persönlichen Führungsqualitäten\, Ihre Fähigkeiten und Erfahrungen weiterentwickeln können.
URL:https://teamkraftdernatur.de/event/leadership-retreat-fuer-alle-berater-ab-rang-silber-in-spanien-madrid/
ATTACH;FMTTYPE=image/jpeg:https://teamkraftdernatur.de/wp-content/uploads/2025/03/pexels-alexazabache-3722818-scaled.jpg
END:VEVENT
END:VCALENDAR