BEGIN:VCALENDAR
VERSION:2.0
PRODID:-//Team Kraft der Natur - ECPv6.15.20//NONSGML v1.0//EN
CALSCALE:GREGORIAN
METHOD:PUBLISH
X-WR-CALNAME:Team Kraft der Natur
X-ORIGINAL-URL:https://teamkraftdernatur.de
X-WR-CALDESC:Veranstaltungen für Team Kraft der Natur
REFRESH-INTERVAL;VALUE=DURATION:PT1H
X-Robots-Tag:noindex
X-PUBLISHED-TTL:PT1H
BEGIN:VTIMEZONE
TZID:Europe/Berlin
BEGIN:DAYLIGHT
TZOFFSETFROM:+0100
TZOFFSETTO:+0200
TZNAME:CEST
DTSTART:20240331T010000
END:DAYLIGHT
BEGIN:STANDARD
TZOFFSETFROM:+0200
TZOFFSETTO:+0100
TZNAME:CET
DTSTART:20241027T010000
END:STANDARD
BEGIN:DAYLIGHT
TZOFFSETFROM:+0100
TZOFFSETTO:+0200
TZNAME:CEST
DTSTART:20250330T010000
END:DAYLIGHT
BEGIN:STANDARD
TZOFFSETFROM:+0200
TZOFFSETTO:+0100
TZNAME:CET
DTSTART:20251026T010000
END:STANDARD
BEGIN:DAYLIGHT
TZOFFSETFROM:+0100
TZOFFSETTO:+0200
TZNAME:CEST
DTSTART:20260329T010000
END:DAYLIGHT
BEGIN:STANDARD
TZOFFSETFROM:+0200
TZOFFSETTO:+0100
TZNAME:CET
DTSTART:20261025T010000
END:STANDARD
END:VTIMEZONE
BEGIN:VEVENT
DTSTART;TZID=Europe/Berlin:20250910T193000
DTEND;TZID=Europe/Berlin:20250910T203000
DTSTAMP:20260423T195430
CREATED:20250724T140018Z
LAST-MODIFIED:20250812T085259Z
UID:12701-1757532600-1757536200@teamkraftdernatur.de
SUMMARY:Natürlich gesunde und glückliche Schulkinder - unterstützt mit doTERRA
DESCRIPTION:Liebe Interessierte\, \nschaltet gern zu bei diesem informativen Online Vortrag für alle Neuinteressenten und Kunden im Team Kraft der Natur. \nDen Zoom Link zum Vortrag findest du im internen Bereich: https://teamkraftdernatur.de/vertiefungsabende-zugangslinks/ \n 
URL:https://teamkraftdernatur.de/event/natuerlich-gesunde-und-glueckliche-schulkinder-unterstuetzt-mit-doterra/
LOCATION:Online\, Online Event
ATTACH;FMTTYPE=image/jpeg:https://teamkraftdernatur.de/wp-content/uploads/2025/07/WhatsApp-Image-2025-08-12-at-10.49.13.jpeg
END:VEVENT
END:VCALENDAR