BEGIN:VCALENDAR
VERSION:2.0
PRODID:-//Team Kraft der Natur - ECPv6.15.20//NONSGML v1.0//EN
CALSCALE:GREGORIAN
METHOD:PUBLISH
X-ORIGINAL-URL:https://teamkraftdernatur.de
X-WR-CALDESC:Veranstaltungen für Team Kraft der Natur
REFRESH-INTERVAL;VALUE=DURATION:PT1H
X-Robots-Tag:noindex
X-PUBLISHED-TTL:PT1H
BEGIN:VTIMEZONE
TZID:Europe/Berlin
BEGIN:DAYLIGHT
TZOFFSETFROM:+0100
TZOFFSETTO:+0200
TZNAME:CEST
DTSTART:20230326T010000
END:DAYLIGHT
BEGIN:STANDARD
TZOFFSETFROM:+0200
TZOFFSETTO:+0100
TZNAME:CET
DTSTART:20231029T010000
END:STANDARD
BEGIN:DAYLIGHT
TZOFFSETFROM:+0100
TZOFFSETTO:+0200
TZNAME:CEST
DTSTART:20240331T010000
END:DAYLIGHT
BEGIN:STANDARD
TZOFFSETFROM:+0200
TZOFFSETTO:+0100
TZNAME:CET
DTSTART:20241027T010000
END:STANDARD
BEGIN:DAYLIGHT
TZOFFSETFROM:+0100
TZOFFSETTO:+0200
TZNAME:CEST
DTSTART:20250330T010000
END:DAYLIGHT
BEGIN:STANDARD
TZOFFSETFROM:+0200
TZOFFSETTO:+0100
TZNAME:CET
DTSTART:20251026T010000
END:STANDARD
END:VTIMEZONE
BEGIN:VEVENT
DTSTART;VALUE=DATE:20240916
DTEND;VALUE=DATE:20240919
DTSTAMP:20260420T115707
CREATED:20231204T154150Z
LAST-MODIFIED:20231204T154927Z
UID:11687-1726444800-1726703999@teamkraftdernatur.de
SUMMARY:doTERRA Legacy Headquarter Reise in die USA
DESCRIPTION:Auszeichnungsreise für alle neu qualifizierten PLATINUM+DIAMOND Ränge\, weitere Infos: Headquarters-Erlebnis | dōTERRA Ätherische Öle (doterra.com)
URL:https://teamkraftdernatur.de/event/doterra-legacy-headquarter-reise-in-die-usa/
ATTACH;FMTTYPE=image/png:https://teamkraftdernatur.de/wp-content/uploads/2023/12/DOTERRA-BUSINESS-11.png
END:VEVENT
BEGIN:VEVENT
DTSTART;TZID=Europe/Berlin:20240917T190000
DTEND;TZID=Europe/Berlin:20240917T200000
DTSTAMP:20260420T115707
CREATED:20231204T150633Z
LAST-MODIFIED:20240703T124347Z
UID:11664-1726599600-1726603200@teamkraftdernatur.de
SUMMARY:Business Call - für alle Berater (Rangunabhängig)
DESCRIPTION:Informationen rund um dein doTERRA Business\, Updates\, Ehrungen\, Termine\, Highlights direkt von doTERRA. Für alle\, die ein stabiles doterra Business aufbauen möchten ein MUSS. \nLink kommt per E-Mail.
URL:https://teamkraftdernatur.de/event/business-call-fuer-alle-berater-rangunabhaengig/
ATTACH;FMTTYPE=image/png:https://teamkraftdernatur.de/wp-content/uploads/2023/12/DOTERRA-BUSINESS-7.png
END:VEVENT
END:VCALENDAR