BEGIN:VCALENDAR
VERSION:2.0
PRODID:-//Team Kraft der Natur - ECPv6.15.20//NONSGML v1.0//EN
CALSCALE:GREGORIAN
METHOD:PUBLISH
X-ORIGINAL-URL:https://teamkraftdernatur.de
X-WR-CALDESC:Veranstaltungen für Team Kraft der Natur
REFRESH-INTERVAL;VALUE=DURATION:PT1H
X-Robots-Tag:noindex
X-PUBLISHED-TTL:PT1H
BEGIN:VTIMEZONE
TZID:Europe/Berlin
BEGIN:DAYLIGHT
TZOFFSETFROM:+0100
TZOFFSETTO:+0200
TZNAME:CEST
DTSTART:20220327T010000
END:DAYLIGHT
BEGIN:STANDARD
TZOFFSETFROM:+0200
TZOFFSETTO:+0100
TZNAME:CET
DTSTART:20221030T010000
END:STANDARD
BEGIN:DAYLIGHT
TZOFFSETFROM:+0100
TZOFFSETTO:+0200
TZNAME:CEST
DTSTART:20230326T010000
END:DAYLIGHT
BEGIN:STANDARD
TZOFFSETFROM:+0200
TZOFFSETTO:+0100
TZNAME:CET
DTSTART:20231029T010000
END:STANDARD
BEGIN:DAYLIGHT
TZOFFSETFROM:+0100
TZOFFSETTO:+0200
TZNAME:CEST
DTSTART:20240331T010000
END:DAYLIGHT
BEGIN:STANDARD
TZOFFSETFROM:+0200
TZOFFSETTO:+0100
TZNAME:CET
DTSTART:20241027T010000
END:STANDARD
END:VTIMEZONE
BEGIN:VEVENT
DTSTART;TZID=Europe/Berlin:20230307T193000
DTEND;TZID=Europe/Berlin:20230307T203000
DTSTAMP:20260423T153939
CREATED:20230207T092451Z
LAST-MODIFIED:20230207T092806Z
UID:11054-1678217400-1678221000@teamkraftdernatur.de
SUMMARY:Saisonale Herausforderungen - Linderung mit Ätherischen Ölen
DESCRIPTION:Im Frühjahr\, wenn die Tage wieder länger werden und endlich die Sonne scheint\, fordern uns die blühenden Gräser und Bäume teilweise sehr heraus. Wie wir uns mit Hilfe unserer Öle auch hierbei auf sanfte und natürliche Weise selbst helfen können\, das erfahrt ihr in diesem Live Zoom. Link bitte über deinen TEAM KRAFT DER ANTUR BERATER anfragen! – Teilnahme für Neuinteressenten ohne Kundenkonto oder Teammitglieder!
URL:https://teamkraftdernatur.de/event/saisonale-herausforderungen-linderung-mit-aetherischen-oelen/
ATTACH;FMTTYPE=image/jpeg:https://teamkraftdernatur.de/wp-content/uploads/2023/02/WhatsApp-Image-2023-02-07-at-09.14.58.jpeg
END:VEVENT
END:VCALENDAR