BEGIN:VCALENDAR
VERSION:2.0
PRODID:-//Team Kraft der Natur - ECPv6.15.20//NONSGML v1.0//EN
CALSCALE:GREGORIAN
METHOD:PUBLISH
X-ORIGINAL-URL:https://teamkraftdernatur.de
X-WR-CALDESC:Veranstaltungen für Team Kraft der Natur
REFRESH-INTERVAL;VALUE=DURATION:PT1H
X-Robots-Tag:noindex
X-PUBLISHED-TTL:PT1H
BEGIN:VTIMEZONE
TZID:Europe/Berlin
BEGIN:DAYLIGHT
TZOFFSETFROM:+0100
TZOFFSETTO:+0200
TZNAME:CEST
DTSTART:20220327T010000
END:DAYLIGHT
BEGIN:STANDARD
TZOFFSETFROM:+0200
TZOFFSETTO:+0100
TZNAME:CET
DTSTART:20221030T010000
END:STANDARD
BEGIN:DAYLIGHT
TZOFFSETFROM:+0100
TZOFFSETTO:+0200
TZNAME:CEST
DTSTART:20230326T010000
END:DAYLIGHT
BEGIN:STANDARD
TZOFFSETFROM:+0200
TZOFFSETTO:+0100
TZNAME:CET
DTSTART:20231029T010000
END:STANDARD
BEGIN:DAYLIGHT
TZOFFSETFROM:+0100
TZOFFSETTO:+0200
TZNAME:CEST
DTSTART:20240331T010000
END:DAYLIGHT
BEGIN:STANDARD
TZOFFSETFROM:+0200
TZOFFSETTO:+0100
TZNAME:CET
DTSTART:20241027T010000
END:STANDARD
END:VTIMEZONE
BEGIN:VEVENT
DTSTART;TZID=Europe/Berlin:20230114T130000
DTEND;TZID=Europe/Berlin:20230114T180000
DTSTAMP:20260423T183236
CREATED:20221210T140713Z
LAST-MODIFIED:20221221T085830Z
UID:10907-1673701200-1673719200@teamkraftdernatur.de
SUMMARY:LEADER KICKOFF -2023 in Großenhain
DESCRIPTION:Herzliche Einladung zum Leader Kickoff für Berater \nAm Samstag\, den 14.1.2023 solltest du dir von 13 – 18 Uhr nichts vornehmen und am LEADER KICKOFF teilnehmen. Du wirst dazu persönlich von deiner Upline eingeladen. Gern kannst du diese auch ansprechen\, wenn du Interesse daran hast. \n\nRückblick/Ausschau 2022/23 – Planung und Zusammenarbeit 2023\nTeamwork/Leadertum\nElite als Schlüsselfigur in deiner Struktur\nMit Planung und System zum Elite\nKaffee & Kuchen mit Zeit zum Vernetzen\nMögliche Herausforderungen und Lösungsansätze\nEvents bei doTERRA – Warum du da nicht fehlen darfst\nFragen & Antworten\n\n  \nBringe dir bitte etwas zu Schreiben und Getränke mit. Für Tee\, Kaffee und Kuchen ist gesorgt. \nWir freuen uns auf euer kommen! Auf ein erfolgreiches neues Jahr!
URL:https://teamkraftdernatur.de/event/leader-kickoff-2023-in-grossenhain/
ATTACH;FMTTYPE=image/png:https://teamkraftdernatur.de/wp-content/uploads/2022/12/Black-and-Gold-Elegant-Happy-New-Year-2023-Instagram-Post.png
END:VEVENT
END:VCALENDAR